BEGIN:VCALENDAR
VERSION:2.0
PRODID:-//TYPO3/NONSGML Calendarize//EN
BEGIN:VEVENT
UID:calendarize-kreismitgliederversammlung-kmv-eimsbuettel-1-1-2
DTSTAMP:20260419T125319Z
DTSTART:20260905T080000Z
SUMMARY:2. Kreismitgliederversammlung (KMV) Eimsbüttel 2026
DESCRIPTION:\nUnsere zweite Kreismitgliederversammlung 2026 findet im Hau
 s des Sports statt. Einlass ab 9.30 Uhr\nWeitere Infos erhaltet ihr mit de
 r Einladung oder findet sie immer aktuell hier.\nBei Fragen zur Barrieref
 reiheit\, zu Anträgen\, der Teilnahme etc. setzt euch gerne zeitnah mit d
 er Geschäftsstelle kreisverband[at]gruene-eimsbuettel.de in Verbindung.
X-ALT-DESC;FMTTYPE=text/html:\n<p>Unsere zweite Kreismitgliederversammlung
  2026 findet im&nbsp\;Haus des Sports statt. Einlass ab 9.30 Uhr</p>\n<p>W
 eitere Infos erhaltet ihr mit der Einladung oder findet sie immer aktuell&
 nbsp\;<a class="external-link-new-window" href="https://gruene-eimsbuettel
 .de/kreisverband/kmv" target="_blank" title="Link öffnen">hier</a>.</p>\n
 <p>Bei Fragen zur Barrierefreiheit\, zu Anträgen\, der Teilnahme etc. set
 zt euch gerne zeitnah mit der Geschäftsstelle <a class="mail" href="mailt
 o:kreisverband@gruene-eimsbuettel.de" title="Sende Mail">kreisverband[at]g
 ruene-eimsbuettel.de</a>&nbsp\;in Verbindung.</p>
LOCATION:Haus des Sports\, Schäferkampsallee 1\, 20357 Hamburg
END:VEVENT
END:VCALENDAR
